Workbook

Sheet Deckblatt
A1: VfL Nürnberg
A2: (www.vfl-nuernberg.de)
A5: VfL Nürnberg e.V. – Salzbrunner Straße 38 – 90473 Nürnberg – Tel. 0911 890654 – www.vfl-nuernberg.de
B8: =Monat_1!K1 -> - | C8: =MONTH(1&B8) -> #VALUE! | D8: =ROUNDUP(C8/3,0) -> #VALUE!
A9: Übungsleiter/in-Abrechnung für das Quartal | B9: =IFERROR(CONCATENATE(D8," / ",Monat_1!L1),"")
A12: Gesamtübersicht für die Monate: | B12: =IF(Monat_1!K1="-","",CONCATENATE(Monat_1!K1,", ",Monat_2!K1,", ",Monat_3!K1))
A14: Übungsleiter/in (Name/Vorname): | B14: =IF(Monat_1!H6="","",Monat_1!H6)
A16: Abteilung: | B16: =IF(Monat_1!F8="-","",Monat_1!F8)
A18: ÜL-Schein vorhanden? | B18: =Monat_1!L7 -> - | C18: (Eingabe in Blatt Monat_1)
A19: Gültigkeit bis: | B19: =IF(AND(Monat_1!L7="Ja",Monat_1!L8="") = TRUE,"kein Datum",IF(Monat_1!L7="-","keine Eingabe",IF(Monat_1!L7="Nein","kein Schein",IF(Monat_1!L8="","",Monat_1!L8)))) -> keine Eingabe
A21: Bezeichnung Tätigkeit (nur Fußball): | B21: =Monat_1!K4 -> -
B22: (Eingabe in Blatt Monat_1)
A24: Monat / Jahr | B24: Stunden
A26: =CONCATENATE(Monat_1!K1," / ",Monat_1!L1) -> - / - | B26: =Monat_1!F33 -> 0
A27: =CONCATENATE(Monat_2!K1," / ",Monat_2!L1) -> - / - | B27: =Monat_2!F33 -> 0
A28: =CONCATENATE(Monat_3!K1," / ",Monat_3!L1) -> - / - | B28: =Monat_3!F33 -> 0
A30: Gesamtstunden | B30: =SUM(B26:B28) -> 0
A34: ….............................., den ……………………..…. | B34: …...........................................................................
A35: Ort, Datum | B35: Unterschrift Abteilungsleitung
A43: Berechnung VfL Nürnberg e.V. (bitte nicht von Abteilungsleitung oder Übungsleiter/in) ausfüllen:
A44: Honorarstunden (s.o.) …………... x Honorarstundensatz …………. € = Honorar : | D44: …...............€
A45: = Gesamtauszahlung | D45: …...............€
A48: Sachlich/rechnerisch geprüft (Nz./Datum): ….......................................................
A50: Auszahlung durchgeführt (Nz/Datum): ….......................................................

Sheet Monat_1
A1: Nachweis des Vereins über die Durchführung von Übungsstunden beim VfL Nürnberg e.V. / | K1: - | L1: -
K2: Monat | L2: Jahr
A4: Verein/Abteilung | G4: Übungsleiter/in | J4: nur Fußball: | K4: -
G6: Name, Vorname
G7: Straße | K7: ÜL-Schein? | L7: -
A8: VfL Nürnberg e.V. / | C8: Abteilung: | F8: - | G8: Wohnort | K8: Gültigkeit bis:
G9: Telefonnummer
G10: Emailadresse
A12: Trainingstag/-datum | B12: Übungszeit von | C12: Übungszeit bis | D12: Stundenzahl | E12: in Dezimalzahl | F12: Stunden (45 min. = 1 Std.) | G12: Mannschaft | I12: Teilnehmerzahl | J12: Sportstätte | K12: Sonstiges (z.B. Unfall)
D13: =C13-B13 -> 0 | E13: =D13*24 -> 0 | F13: =+E13/0.75 -> 0
D14: =C14-B14 -> 0 | E14: =D14*24 -> 0 | F14: =+E14/0.75 -> 0
D15: =C15-B15 -> 0 | E15: =D15*24 -> 0 | F15: =+E15/0.75 -> 0
D16: =C16-B16 -> 0 | E16: =D16*24 -> 0 | F16: =+E16/0.75 -> 0
D17: =C17-B17 -> 0 | E17: =D17*24 -> 0 | F17: =+E17/0.75 -> 0
D18: =C18-B18 -> 0 | E18: =D18*24 -> 0 | F18: =+E18/0.75 -> 0
D19: =C19-B19 -> 0 | E19: =D19*24 -> 0 | F19: =+E19/0.75 -> 0
D20: =C20-B20 -> 0 | E20: =D20*24 -> 0 | F20: =+E20/0.75 -> 0
D21: =C21-B21 -> 0 | E21: =D21*24 -> 0 | F21: =+E21/0.75 -> 0
D22: =C22-B22 -> 0 | E22: =D22*24 -> 0 | F22: =+E22/0.75 -> 0
D23: =C23-B23 -> 0 | E23: =D23*24 -> 0 | F23: =+E23/0.75 -> 0
D24: =C24-B24 -> 0 | E24: =D24*24 -> 0 | F24: =+E24/0.75 -> 0
... D32: =C32-B32 -> 0 | E32: =D32*24 -> 0 | F32: =+E32/0.75 -> 0
B33: Monatssumme: | F33: =SUM(F13:F32) -> 0
A35: Die aufgeführten Übungsstunden wurden vom genannten Übungsleiter/in gemäß der Sportförderlinien des Freistaates Bayern vom 30.09.1997 (StAnz. Nr. 50, KWMBl I S. 298) abgehalten. Es wird bestätigt, dass die Eintragungen richtig sind.
A38: Ort | B38: Datum | F38: Unterschrift - Übungsleiter/in | I38: Unterschrift - Abteilungsleitung

Sheet Monat_2
A1: Nachweis des Vereins über die Durchführung von Übungsstunden beim VfL Nürnberg e.V. / | K1: =IFERROR(VLOOKUP(MONTH(1&Monat_1!K1)+1,Daten!A2:B13,2,FALSE),"-") -> - | L1: =Monat_1!L1 -> -
K2: Monat | L2: Jahr
A4: Verein/Abteilung | G4: Übungsleiter/in | J4: nur Fußball: | K4: =Monat_1!K4 -> -
G6: Name, Vorname | H6: =IF(Monat_1!H6="","",Monat_1!H6)
G7: Straße | H7: =IF(Monat_1!H7="","",Monat_1!H7) | K7: ÜL-Schein? | L7: =Monat_1!L7 -> -
A8: VfL Nürnberg e.V. / | C8: Abteilung: | F8: =Monat_1!F8 -> - | G8: Wohnort | H8: =IF(Monat_1!H8="","",Monat_1!H8) | K8: Gültigkeit bis: | L8: =IF(Monat_1!L8="","",Monat_1!L8)
G9: Telefonnummer | H9: =IF(Monat_1!H9="","",Monat_1!H9)
G10: Emailadresse | H10: =IF(Monat_1!H10="","",Monat_1!H10)
A12: Trainingstag/-datum | B12: Übungszeit von | C12: Übungszeit bis | D12: Stundenzahl | E12: in Dezimalzahl | F12: Stunden (45 min. = 1 Std.) | G12: Mannschaft | I12: Teilnehmerzahl | J12: Sportstätte | K12: Sonstiges (z.B. Unfall)
D13: =C13-B13 -> 0 | E13: =D13*24 -> 0 | F13: =+E13/0.75 -> 0
D14: =C14-B14 -> 0 | E14: =D14*24 -> 0 | F14: =+E14/0.75 -> 0
D15: =C15-B15 -> 0 | E15: =D15*24 -> 0 | F15: =+E15/0.75 -> 0
D16: =C16-B16 -> 0 | E16: =D16*24 -> 0 | F16: =+E16/0.75 -> 0
D17: =C17-B17 -> 0 | E17: =D17*24 -> 0 | F17: =+E17/0.75 -> 0
D18: =C18-B18 -> 0 | E18: =D18*24 -> 0 | F18: =+E18/0.75 -> 0
D19: =C19-B19 -> 0 | E19: =D19*24 -> 0 | F19: =+E19/0.75 -> 0
D20: =C20-B20 -> 0 | E20: =D20*24 -> 0 | F20: =+E20/0.75 -> 0
D21: =C21-B21 -> 0 | E21: =D21*24 -> 0 | F21: =+E21/0.75 -> 0
D22: =C22-B22 -> 0 | E22: =D22*24 -> 0 | F22: =+E22/0.75 -> 0
D23: =C23-B23 -> 0 | E23: =D23*24 -> 0 | F23: =+E23/0.75 -> 0
D24: =C24-B24 -> 0 | E24: =D24*24 -> 0 | F24: =+E24/0.75 -> 0
... D32: =C32-B32 -> 0 | E32: =D32*24 -> 0 | F32: =+E32/0.75 -> 0
B33: Monatssumme: | F33: =SUM(F13:F32) -> 0
A35: Die aufgeführten Übungsstunden wurden vom genannten Übungsleiter/in gemäß der Sportförderlinien des Freistaates Bayern vom 30.09.1997 (StAnz. Nr. 50, KWMBl I S. 298) abgehalten. Es wird bestätigt, dass die Eintragungen richtig sind.
A37: =IF(Monat_1!A37="","",Monat_1!A37) | D37: =IF(Monat_1!D37 = "","",Monat_1!D37)
A38: Ort | B38: Datum | F38: Unterschrift - Übungsleiter/in | I38: Unterschrift - Abteilungsleitung

Sheet Monat_3
A1: Nachweis des Vereins über die Durchführung von Übungsstunden beim VfL Nürnberg e.V. / | K1: =IFERROR(VLOOKUP(MONTH(1&Monat_1!K1)+2,Daten!A2:B13,2,FALSE),"-") -> - | L1: =Monat_1!L1 -> -
K2: Monat | L2: Jahr
A4: Verein/Abteilung | G4: Übungsleiter/in | J4: nur Fußball: | K4: =Monat_1!K4 -> -
G6: Name, Vorname | H6: =IF(Monat_1!H6="","",Monat_1!H6)
G7: Straße | H7: =IF(Monat_1!H7="","",Monat_1!H7) | K7: ÜL-Schein? | L7: =Monat_1!L7 -> -
A8: VfL Nürnberg e.V. / | C8: Abteilung: | F8: =Monat_1!F8 -> - | G8: Wohnort | H8: =IF(Monat_1!H8="","",Monat_1!H8) | K8: Gültigkeit bis: | L8: =IF(Monat_1!L8="","",Monat_1!L8)
G9: Telefonnummer | H9: =IF(Monat_1!H9="","",Monat_1!H9)
G10: Emailadresse | H10: =IF(Monat_1!H10="","",Monat_1!H10)
A12: Trainingstag/-datum | B12: Übungszeit von | C12: Übungszeit bis | D12: Stundenzahl | E12: in Dezimalzahl | F12: Stunden (45 min. = 1 Std.) | G12: Mannschaft | I12: Teilnehmerzahl | J12: Sportstätte | K12: Sonstiges (z.B. Unfall)
D13: =C13-B13 -> 0 | E13: =D13*24 -> 0 | F13: =+E13/0.75 -> 0
D14: =C14-B14 -> 0 | E14: =D14*24 -> 0 | F14: =+E14/0.75 -> 0
D15: =C15-B15 -> 0 | E15: =D15*24 -> 0 | F15: =+E15/0.75 -> 0
D16: =C16-B16 -> 0 | E16: =D16*24 -> 0 | F16: =+E16/0.75 -> 0
D17: =C17-B17 -> 0 | E17: =D17*24 -> 0 | F17: =+E17/0.75 -> 0
D18: =C18-B18 -> 0 | E18: =D18*24 -> 0 | F18: =+E18/0.75 -> 0
D19: =C19-B19 -> 0 | E19: =D19*24 -> 0 | F19: =+E19/0.75 -> 0
D20: =C20-B20 -> 0 | E20: =D20*24 -> 0 | F20: =+E20/0.75 -> 0
D21: =C21-B21 -> 0 | E21: =D21*24 -> 0 | F21: =+E21/0.75 -> 0
D22: =C22-B22 -> 0 | E22: =D22*24 -> 0 | F22: =+E22/0.75 -> 0
D23: =C23-B23 -> 0 | E23: =D23*24 -> 0 | F23: =+E23/0.75 -> 0
D24: =C24-B24 -> 0 | E24: =D24*24 -> 0 | F24: =+E24/0.75 -> 0
... D32: =C32-B32 -> 0 | E32: =D32*24 -> 0 | F32: =+E32/0.75 -> 0
B33: Monatssumme: | F33: =SUM(F13:F32) -> 0
A35: Die aufgeführten Übungsstunden wurden vom genannten Übungsleiter/in gemäß der Sportförderlinien des Freistaates Bayern vom 30.09.1997 (StAnz. Nr. 50, KWMBl I S. 298) abgehalten. Es wird bestätigt, dass die Eintragungen richtig sind.
A37: =IF(Monat_1!A37="","",Monat_1!A37) | D37: =IF(Monat_1!D37 = "","",Monat_1!D37)
A38: Ort | B38: Datum | F38: Unterschrift - Übungsleiter/in | I38: Unterschrift - Abteilungsleitung

Sheet Daten
B1: - | C1: - | E1: - | H1: - | K1: - | N1: -
A2: 1 | B2: Januar | C2: 2025 | E2: Januar | H2: Badminton | K2: Hauptübungsleiter/in | N2: Ja
A3: 2 | B3: Februar | C3: 2026 | E3: April | H3: Budo Taijutsu | K3: Co-Übungsleiter/in | N3: Nein
A4: 3 | B4: März | C4: 2027 | E4: Juli | H4: Fitness | K4: Co-Betreuer/in
A5: 4 | B5: April | C5: 2028 | E5: Oktober | H5: Fußball
A6: 5 | B6: Mai | C6: 2029 | H6: Karate
A7: 6 | B7: Juni | C7: 2030 | H7: Kegeln
A8: 7 | B8: Juli | C8: 2031 | H8: Koronar
A9: 8 | B9: August | C9: 2032 | H9: Leichtathletik
A10: 9 | B10: September | C10: 2033 | H10: Schwimmen
A11: 10 | B11: Oktober | C11: 2034 | H11: Skifahren
A12: 11 | B12: November | C12: 2035 | H12: Taiko
A13: 12 | B13: Dezember | C13: 2036 | H13: Tauchen
H14: Tennis
H15: Tischtennis
H16: Triathlon
H17: Turnen
H18: Unterwasserrugby
H19: Volleyball
H20: Wandern
